BEGIN:VCALENDAR
VERSION:2.0
METHOD:PUBLISH
BEGIN:VEVENT
DTSTART:20131101T170000Z
DTEND:20131104T000000Z
LOCATION:San Jose, CA 95120
TRANSP: OPAQUE
SEQUENCE:0
UID:
DTSTAMP:20260424T121918Z
SUMMARY:HUGE SALE in San Jose - Vintage Galore!l
DESCRIPTION:HUGE SALE in San Jose - Vintage Galore!l S&S ESTATE SALES 
UID:1777054758
STREET-ADDRESS:See website
POSTAL-CODE:95120
LOCALITY:San Jose
REGION:ABBREV=CA
COUNTRY:ABBREV=US;ABBREV=USA:United States
URL;TYPE=Event Listing:https://estatesales.org/estate-sales/ca/san-jose/95120/huge-sale-in-san-jose-337884
PRIORITY:1
CLASS:PUBLIC
SEQUENCE:0
STATUS:CONFIRMED
TRANSP:OPAQUE
END:VEVENT
END:VCALENDAR
