BEGIN:VCALENDAR
VERSION:2.0
METHOD:PUBLISH
BEGIN:VEVENT
DTSTART:20121101T170000Z
DTEND:20121104T220000Z
LOCATION:Richardson, TX 75082
TRANSP: OPAQUE
SEQUENCE:0
UID:
DTSTAMP:20260425T122445Z
SUMMARY:Follow The Ruby Red Road...to The Gift Sale of the Season!
DESCRIPTION:Follow The Ruby Red Road...to The Gift Sale of the Season! Blue Moon Estates - Estate Sales, Events &amp; Services 
UID:1777141485
STREET-ADDRESS:See website
POSTAL-CODE:75082
LOCALITY:Richardson
REGION:ABBREV=TX
COUNTRY:ABBREV=US;ABBREV=USA:United States
URL;TYPE=Event Listing:https://estatesales.org/estate-sales/tx/richardson/75082/follow-the-ruby-red-roadto-227010
PRIORITY:1
CLASS:PUBLIC
SEQUENCE:0
STATUS:CONFIRMED
TRANSP:OPAQUE
END:VEVENT
END:VCALENDAR
