BEGIN:VCALENDAR
VERSION:2.0
METHOD:PUBLISH
BEGIN:VEVENT
DTSTART:20251031T170000Z
DTEND:20251103T000000Z
LOCATION:Oakland, CA 94611
TRANSP: OPAQUE
SEQUENCE:0
UID:
DTSTAMP:20260422T125822Z
SUMMARY:Montclair - Oakland Estate Sale
DESCRIPTION:Montclair - Oakland Estate Sale Dan May Estates LLC 
UID:1776884302
STREET-ADDRESS:See website
POSTAL-CODE:94611
LOCALITY:Oakland
REGION:ABBREV=CA
COUNTRY:ABBREV=US;ABBREV=USA:United States
URL;TYPE=Event Listing:https://estatesales.org/estate-sales/ca/oakland/94611/montclair-oakland-estate-sale-2410160
PRIORITY:1
CLASS:PUBLIC
SEQUENCE:0
STATUS:CONFIRMED
TRANSP:OPAQUE
END:VEVENT
END:VCALENDAR
