BEGIN:VCALENDAR
VERSION:2.0
METHOD:PUBLISH
BEGIN:VEVENT
DTSTART:20251031T160000Z
DTEND:20251102T210000Z
LOCATION:Modesto, CA 95356
TRANSP: OPAQUE
SEQUENCE:0
UID:
DTSTAMP:20260421T163012Z
SUMMARY:Huge annual Estate sale ( 5 family’s )
DESCRIPTION:Huge annual Estate sale ( 5 family’s ) CALIFORNIA ESTATE SALES GROUP 
UID:1776810612
STREET-ADDRESS:See website
POSTAL-CODE:95356
LOCALITY:Modesto
REGION:ABBREV=CA
COUNTRY:ABBREV=US;ABBREV=USA:United States
URL;TYPE=Event Listing:https://estatesales.org/estate-sales/ca/modesto/95356/huge-annual-estate-sale-5-2409782
PRIORITY:1
CLASS:PUBLIC
SEQUENCE:0
STATUS:CONFIRMED
TRANSP:OPAQUE
END:VEVENT
END:VCALENDAR
