BEGIN:VCALENDAR
VERSION:2.0
METHOD:PUBLISH
BEGIN:VEVENT
DTSTART:20251031T140000Z
DTEND:20251101T200000Z
LOCATION:Appleton, WI 54911
TRANSP: OPAQUE
SEQUENCE:0
UID:
DTSTAMP:20260424T213711Z
SUMMARY:APPLETON ESTATE SALE BY THE " Estate Sale Squad" -FRI 10/31- 9AM-5PM, - SAT 11/01- 9AM-4PM
DESCRIPTION:APPLETON ESTATE SALE BY THE " Estate Sale Squad" -FRI 10/31- 9AM-5PM, - SAT 11/01- 9AM-4PM Estate Sale Squad LLC 
UID:1777088231
STREET-ADDRESS:See website
POSTAL-CODE:54911
LOCALITY:Appleton
REGION:ABBREV=WI
COUNTRY:ABBREV=US;ABBREV=USA:United States
URL;TYPE=Event Listing:https://estatesales.org/estate-sales/wi/appleton/54911/appleton-estate-sale-by-the-2409700
PRIORITY:1
CLASS:PUBLIC
SEQUENCE:0
STATUS:CONFIRMED
TRANSP:OPAQUE
END:VEVENT
END:VCALENDAR
