BEGIN:VCALENDAR
VERSION:2.0
METHOD:PUBLISH
BEGIN:VEVENT
DTSTART:20251031T150000Z
DTEND:20251102T210000Z
LOCATION:Santa Ysabel, CA 92070
TRANSP: OPAQUE
SEQUENCE:0
UID:
DTSTAMP:20260425T045207Z
SUMMARY:Santa Ysabel 3 Bedroom Home plus Workshop
DESCRIPTION:Santa Ysabel 3 Bedroom Home plus Workshop Groovy Bakeshop 
UID:1777114327
STREET-ADDRESS:See website
POSTAL-CODE:92070
LOCALITY:Santa Ysabel
REGION:ABBREV=CA
COUNTRY:ABBREV=US;ABBREV=USA:United States
URL;TYPE=Event Listing:https://estatesales.org/estate-sales/ca/santa-ysabel/92070/santa-ysabel-3-bedroom-home-2406661
PRIORITY:1
CLASS:PUBLIC
SEQUENCE:0
STATUS:CONFIRMED
TRANSP:OPAQUE
END:VEVENT
END:VCALENDAR
