BEGIN:VCALENDAR
VERSION:2.0
METHOD:PUBLISH
BEGIN:VEVENT
DTSTART:20251031T150000Z
DTEND:20251101T200000Z
LOCATION:Sun City, AZ 85373
TRANSP: OPAQUE
SEQUENCE:0
UID:
DTSTAMP:20260424T180746Z
SUMMARY:Sun City Sale by Caring Transitions of North Phoenix
DESCRIPTION:Sun City Sale by Caring Transitions of North Phoenix Caring Transitions of North Phoenix 
UID:1777075666
STREET-ADDRESS:See website
POSTAL-CODE:85373
LOCALITY:Sun City
REGION:ABBREV=AZ
COUNTRY:ABBREV=US;ABBREV=USA:United States
URL;TYPE=Event Listing:https://estatesales.org/estate-sales/az/sun-city-/85373/sun-city-sale-by-caring-2409918
PRIORITY:1
CLASS:PUBLIC
SEQUENCE:0
STATUS:CONFIRMED
TRANSP:OPAQUE
END:VEVENT
END:VCALENDAR
