BEGIN:VCALENDAR
VERSION:2.0
METHOD:PUBLISH
BEGIN:VEVENT
DTSTART:20251030T140000Z
DTEND:20251101T220000Z
LOCATION:Watertown, WI 53094
TRANSP: OPAQUE
SEQUENCE:0
UID:
DTSTAMP:20260420T005405Z
SUMMARY:Beautiful Condo Sale in Watertown - 50% off Saturday
DESCRIPTION:Beautiful Condo Sale in Watertown - 50% off Saturday
UID:1776668045
STREET-ADDRESS:See website
POSTAL-CODE:53094
LOCALITY:Watertown
REGION:ABBREV=WI
COUNTRY:ABBREV=US;ABBREV=USA:United States
URL;TYPE=Event Listing:https://estatesales.org/estate-sales/wi/watertown/53094/beautiful-condo-sale-in-watertown-2408955
PRIORITY:1
CLASS:PUBLIC
SEQUENCE:0
STATUS:CONFIRMED
TRANSP:OPAQUE
END:VEVENT
END:VCALENDAR
