BEGIN:VCALENDAR
VERSION:2.0
METHOD:PUBLISH
BEGIN:VEVENT
DTSTART:20211030T120000Z
DTEND:20211030T180000Z
LOCATION:Aultman, PA 15713
TRANSP: OPAQUE
SEQUENCE:0
UID:
DTSTAMP:20260419T082838Z
SUMMARY:PICKERS Estate Sale
DESCRIPTION:PICKERS Estate Sale Williams & Barron Estate Services LLC 
UID:1776608918
STREET-ADDRESS:See website
POSTAL-CODE:15713
LOCALITY:Aultman
REGION:ABBREV=PA
COUNTRY:ABBREV=US;ABBREV=USA:United States
URL;TYPE=Event Listing:https://estatesales.org/estate-sales/pa/aultman-/15713/pickers-estate-sale-1975429
PRIORITY:1
CLASS:PUBLIC
SEQUENCE:0
STATUS:CONFIRMED
TRANSP:OPAQUE
END:VEVENT
END:VCALENDAR
