BEGIN:VCALENDAR
VERSION:2.0
METHOD:PUBLISH
BEGIN:VEVENT
DTSTART:20201030T140000Z
DTEND:20201031T190000Z
LOCATION:Philadelphia, PA 19111
TRANSP: OPAQUE
SEQUENCE:0
UID:
DTSTAMP:20260423T162938Z
SUMMARY:Treasure Me Team in Philadelphia for a Two Day Halloween Estate Sale
DESCRIPTION:Treasure Me Team in Philadelphia for a Two Day Halloween Estate Sale Treasure Me Estate Sales 1-800-NOT-JUNK Free Consults 
UID:1776983378
STREET-ADDRESS:See website
POSTAL-CODE:19111
LOCALITY:Philadelphia
REGION:ABBREV=PA
COUNTRY:ABBREV=US;ABBREV=USA:United States
URL;TYPE=Event Listing:https://estatesales.org/estate-sales/pa/philadelphia/19111/treasure-me-team-in-philadelphia-1838663
PRIORITY:1
CLASS:PUBLIC
SEQUENCE:0
STATUS:CONFIRMED
TRANSP:OPAQUE
END:VEVENT
END:VCALENDAR
