BEGIN:VCALENDAR
VERSION:2.0
METHOD:PUBLISH
BEGIN:VEVENT
DTSTART:20141030T140000Z
DTEND:20141103T000000Z
LOCATION:Houston, TX 77058
TRANSP: OPAQUE
SEQUENCE:0
UID:
DTSTAMP:20260424T170841Z
SUMMARY:Wray Lindersmith Living Estate
DESCRIPTION:Wray Lindersmith Living Estate Arbor Antiques Services, Inc. 
UID:1777072121
STREET-ADDRESS:See website
POSTAL-CODE:77058
LOCALITY:Houston
REGION:ABBREV=TX
COUNTRY:ABBREV=US;ABBREV=USA:United States
URL;TYPE=Event Listing:https://estatesales.org/estate-sales/tx/houston/77058/wray-lindersmith-living-estate-468164
PRIORITY:1
CLASS:PUBLIC
SEQUENCE:0
STATUS:CONFIRMED
TRANSP:OPAQUE
END:VEVENT
END:VCALENDAR
