BEGIN:VCALENDAR
VERSION:2.0
METHOD:PUBLISH
BEGIN:VEVENT
DTSTART:20251029T140000Z
DTEND:20251029T180000Z
LOCATION:Pasadena, TX 77503
TRANSP: OPAQUE
SEQUENCE:0
UID:
DTSTAMP:20260425T100246Z
SUMMARY:Pasadena Flash Sale! Wednesday, Oct 29 9AM-1PM!
DESCRIPTION:Pasadena Flash Sale! Wednesday, Oct 29 9AM-1PM! Caring Transitions of Friendswood 
UID:1777132966
STREET-ADDRESS:See website
POSTAL-CODE:77503
LOCALITY:Pasadena
REGION:ABBREV=TX
COUNTRY:ABBREV=US;ABBREV=USA:United States
URL;TYPE=Event Listing:https://estatesales.org/estate-sales/tx/pasadena/77503/pasadena-flash-sale-wednesday-oct-2409098
PRIORITY:1
CLASS:PUBLIC
SEQUENCE:0
STATUS:CONFIRMED
TRANSP:OPAQUE
END:VEVENT
END:VCALENDAR
