BEGIN:VCALENDAR
VERSION:2.0
METHOD:PUBLISH
BEGIN:VEVENT
DTSTART:20221029T160000Z
DTEND:20221030T203000Z
LOCATION:Los Angeles, CA 90004
TRANSP: OPAQUE
SEQUENCE:0
UID:
DTSTAMP:20260420T021113Z
SUMMARY:Inflation Busting Deals at this Exciting Shopping Experience.  Everything is here in 3,000 ft Estate!
DESCRIPTION:Inflation Busting Deals at this Exciting Shopping Experience.  Everything is here in 3,000 ft Estate! Triumphant Estate Sales of Los Angeles 
UID:1776672673
STREET-ADDRESS:See website
POSTAL-CODE:90004
LOCALITY:Los Angeles
REGION:ABBREV=CA
COUNTRY:ABBREV=US;ABBREV=USA:United States
URL;TYPE=Event Listing:https://estatesales.org/estate-sales/ca/los-angeles/90004/inflation-busting-deals-at-this-2112417
PRIORITY:1
CLASS:PUBLIC
SEQUENCE:0
STATUS:CONFIRMED
TRANSP:OPAQUE
END:VEVENT
END:VCALENDAR
