BEGIN:VCALENDAR
VERSION:2.0
METHOD:PUBLISH
BEGIN:VEVENT
DTSTART:20211029T130000Z
DTEND:20211031T200000Z
LOCATION:New City, NY 10956
TRANSP: OPAQUE
SEQUENCE:0
UID:
DTSTAMP:20260422T025841Z
SUMMARY:OAK-ay By Me in New City!
DESCRIPTION:OAK-ay By Me in New City! Hudson Estate Sales, LLC 
UID:1776848321
STREET-ADDRESS:See website
POSTAL-CODE:10956
LOCALITY:New City
REGION:ABBREV=NY
COUNTRY:ABBREV=US;ABBREV=USA:United States
URL;TYPE=Event Listing:https://estatesales.org/estate-sales/ny/new-city/10956/oakay-by-me-in-new-1975289
PRIORITY:1
CLASS:PUBLIC
SEQUENCE:0
STATUS:CONFIRMED
TRANSP:OPAQUE
END:VEVENT
END:VCALENDAR
