BEGIN:VCALENDAR
VERSION:2.0
METHOD:PUBLISH
BEGIN:VEVENT
DTSTART:20211029T130000Z
DTEND:20211030T190000Z
LOCATION:Webster, MA 01570
TRANSP: OPAQUE
SEQUENCE:0
UID:
DTSTAMP:20260421T124248Z
SUMMARY:Rare & Uncommon Collectable's sale/ take a LOOK.
DESCRIPTION:Rare & Uncommon Collectable's sale/ take a LOOK. KR. Brooks Auctions Co. 
UID:1776796968
STREET-ADDRESS:See website
POSTAL-CODE:01570
LOCALITY:Webster
REGION:ABBREV=MA
COUNTRY:ABBREV=US;ABBREV=USA:United States
URL;TYPE=Event Listing:https://estatesales.org/estate-sales/ma/webster/01570/rare-uncommon-collectables-sale-take-1971791
PRIORITY:1
CLASS:PUBLIC
SEQUENCE:0
STATUS:CONFIRMED
TRANSP:OPAQUE
END:VEVENT
END:VCALENDAR
