BEGIN:VCALENDAR
VERSION:2.0
METHOD:PUBLISH
BEGIN:VEVENT
DTSTART:20211029T150000Z
DTEND:20211030T180000Z
LOCATION:Victorville, CA 92395
TRANSP: OPAQUE
SEQUENCE:0
UID:
DTSTAMP:20260419T074339Z
SUMMARY:Grasons Co Estate Specialists Victorville Estate Sale
DESCRIPTION:Grasons Co Estate Specialists Victorville Estate Sale Grasons Co Estate Specialists 
UID:1776606219
STREET-ADDRESS:See website
POSTAL-CODE:92395
LOCALITY:Victorville
REGION:ABBREV=CA
COUNTRY:ABBREV=US;ABBREV=USA:United States
URL;TYPE=Event Listing:https://estatesales.org/estate-sales/ca/victorville/92395/grasons-co-estate-specialists-victorville-1953979
PRIORITY:1
CLASS:PUBLIC
SEQUENCE:0
STATUS:CONFIRMED
TRANSP:OPAQUE
END:VEVENT
END:VCALENDAR
