BEGIN:VCALENDAR
VERSION:2.0
METHOD:PUBLISH
BEGIN:VEVENT
DTSTART:20161029T150000Z
DTEND:20161030T220000Z
LOCATION:Tacoma, WA 98407
TRANSP: OPAQUE
SEQUENCE:0
UID:
DTSTAMP:20260424T133523Z
SUMMARY:PW Green - Large North Tacoma Estate Sale
DESCRIPTION:PW Green - Large North Tacoma Estate Sale P W Green Antiques & Estate Sales 
UID:1777059323
STREET-ADDRESS:See website
POSTAL-CODE:98407
LOCALITY:Tacoma
REGION:ABBREV=WA
COUNTRY:ABBREV=US;ABBREV=USA:United States
URL;TYPE=Event Listing:https://estatesales.org/estate-sales/wa/tacoma/98407/pw-green-large-north-tacoma-1010889
PRIORITY:1
CLASS:PUBLIC
SEQUENCE:0
STATUS:CONFIRMED
TRANSP:OPAQUE
END:VEVENT
END:VCALENDAR
