BEGIN:VCALENDAR
VERSION:2.0
METHOD:PUBLISH
BEGIN:VEVENT
DTSTART:20151029T130000Z
DTEND:20151031T180000Z
LOCATION:Winter Park, FL 32789
TRANSP: OPAQUE
SEQUENCE:0
UID:
DTSTAMP:20260421T140253Z
SUMMARY:WINTER PARK GET READY FOR THE HOLIDAYS ESTATE SALE
DESCRIPTION:WINTER PARK GET READY FOR THE HOLIDAYS ESTATE SALE OLIVER'S TWIST ESTATE MOVING SALES & SELECT CONSIGNMENTS 
UID:1776801773
STREET-ADDRESS:See website
POSTAL-CODE:32789
LOCALITY:Winter Park
REGION:ABBREV=FL
COUNTRY:ABBREV=US;ABBREV=USA:United States
URL;TYPE=Event Listing:https://estatesales.org/estate-sales/fl/winter-park/32789/winter-park-get-ready-for-714635
PRIORITY:1
CLASS:PUBLIC
SEQUENCE:0
STATUS:CONFIRMED
TRANSP:OPAQUE
END:VEVENT
END:VCALENDAR
