BEGIN:VCALENDAR
VERSION:2.0
METHOD:PUBLISH
BEGIN:VEVENT
DTSTART:20231028T150000Z
DTEND:20231029T210000Z
LOCATION:Casa Grande, AZ 85122
TRANSP: OPAQUE
SEQUENCE:0
UID:
DTSTAMP:20260423T121655Z
SUMMARY:Grasons Final Day 50% off All Day Sunday October 29th - Casa Grande 
DESCRIPTION:Grasons Final Day 50% off All Day Sunday October 29th - Casa Grande  Grasons of Scottsdale, AZ 
UID:1776968215
STREET-ADDRESS:See website
POSTAL-CODE:85122
LOCALITY:Casa Grande
REGION:ABBREV=AZ
COUNTRY:ABBREV=US;ABBREV=USA:United States
URL;TYPE=Event Listing:https://estatesales.org/estate-sales/az/casa-grande/85122/grasons-final-day-50-off-2237253
PRIORITY:1
CLASS:PUBLIC
SEQUENCE:0
STATUS:CONFIRMED
TRANSP:OPAQUE
END:VEVENT
END:VCALENDAR
