BEGIN:VCALENDAR
VERSION:2.0
METHOD:PUBLISH
BEGIN:VEVENT
DTSTART:20221028T160000Z
DTEND:20221030T210000Z
LOCATION:Riverside, CA 92504
TRANSP: OPAQUE
SEQUENCE:0
UID:
DTSTAMP:20260419T223703Z
SUMMARY:Riverside Sale Full of Tools, Vintage Big Trains, Belt Buckles, Pocket Knives, Horse Tack, and Much More!
DESCRIPTION:Riverside Sale Full of Tools, Vintage Big Trains, Belt Buckles, Pocket Knives, Horse Tack, and Much More! Estate Sales by Dee 
UID:1776659823
STREET-ADDRESS:See website
POSTAL-CODE:92504
LOCALITY:Riverside
REGION:ABBREV=CA
COUNTRY:ABBREV=US;ABBREV=USA:United States
URL;TYPE=Event Listing:https://estatesales.org/estate-sales/ca/riverside/92504/riverside-sale-full-of-tools-2114261
PRIORITY:1
CLASS:PUBLIC
SEQUENCE:0
STATUS:CONFIRMED
TRANSP:OPAQUE
END:VEVENT
END:VCALENDAR
