BEGIN:VCALENDAR
VERSION:2.0
METHOD:PUBLISH
BEGIN:VEVENT
DTSTART:20221028T120000Z
DTEND:20221030T190000Z
LOCATION:Silas, AL 36919
TRANSP: OPAQUE
SEQUENCE:0
UID:
DTSTAMP:20260422T065138Z
SUMMARY:Designing Southern Estate
DESCRIPTION:Designing Southern Estate Uncommon Artifacts Estate Services LLC 
UID:1776862298
STREET-ADDRESS:See website
POSTAL-CODE:36919
LOCALITY:Silas
REGION:ABBREV=AL
COUNTRY:ABBREV=US;ABBREV=USA:United States
URL;TYPE=Event Listing:https://estatesales.org/estate-sales/al/silas/36919/designing-southern-estate-2110311
PRIORITY:1
CLASS:PUBLIC
SEQUENCE:0
STATUS:CONFIRMED
TRANSP:OPAQUE
END:VEVENT
END:VCALENDAR
