BEGIN:VCALENDAR
VERSION:2.0
METHOD:PUBLISH
BEGIN:VEVENT
DTSTART:20241027T160000Z
DTEND:20241027T200000Z
LOCATION:Chicago, IL 60654
TRANSP: OPAQUE
SEQUENCE:0
UID:
DTSTAMP:20260425T162828Z
SUMMARY:Final BLOW-OUT High End Designer Liquidation Sale
DESCRIPTION:Final BLOW-OUT High End Designer Liquidation Sale Meadow Lane Estate Sales 
UID:1777156108
STREET-ADDRESS:See website
POSTAL-CODE:60654
LOCALITY:Chicago
REGION:ABBREV=IL
COUNTRY:ABBREV=US;ABBREV=USA:United States
URL;TYPE=Event Listing:https://estatesales.org/estate-sales/il/chicago/60654/final-blowout-high-end-designer-2346422
PRIORITY:1
CLASS:PUBLIC
SEQUENCE:0
STATUS:CONFIRMED
TRANSP:OPAQUE
END:VEVENT
END:VCALENDAR
