BEGIN:VCALENDAR
VERSION:2.0
METHOD:PUBLISH
BEGIN:VEVENT
DTSTART:20231027T160000Z
DTEND:20231028T210000Z
LOCATION:Novato, CA 94945
TRANSP: OPAQUE
SEQUENCE:0
UID:
DTSTAMP:20260421T231558Z
SUMMARY:UP TO 50% OFF SATURDAY - A Lifetime of Treasures by Golden Gate Estate Sales - Novato
DESCRIPTION:UP TO 50% OFF SATURDAY - A Lifetime of Treasures by Golden Gate Estate Sales - Novato Golden Gate Estate Sales 
UID:1776834958
STREET-ADDRESS:See website
POSTAL-CODE:94945
LOCALITY:Novato
REGION:ABBREV=CA
COUNTRY:ABBREV=US;ABBREV=USA:United States
URL;TYPE=Event Listing:https://estatesales.org/estate-sales/ca/novato/94945/up-to-50-off-saturday-2247873
PRIORITY:1
CLASS:PUBLIC
SEQUENCE:0
STATUS:CONFIRMED
TRANSP:OPAQUE
END:VEVENT
END:VCALENDAR
