BEGIN:VCALENDAR
VERSION:2.0
METHOD:PUBLISH
BEGIN:VEVENT
DTSTART:20241026T140000Z
DTEND:20241027T190000Z
LOCATION:Somerville, NJ 08876
TRANSP: OPAQUE
SEQUENCE:0
UID:
DTSTAMP:20260425T203554Z
SUMMARY:A Dusty Old Bag is in Branchburg for a Fantastic Sale
DESCRIPTION:A Dusty Old Bag is in Branchburg for a Fantastic Sale A Dusty Old Bag  
UID:1777170954
STREET-ADDRESS:See website
POSTAL-CODE:08876
LOCALITY:Somerville
REGION:ABBREV=NJ
COUNTRY:ABBREV=US;ABBREV=USA:United States
URL;TYPE=Event Listing:https://estatesales.org/estate-sales/nj/somerville/08876/a-dusty-old-bag-is-2342256
PRIORITY:1
CLASS:PUBLIC
SEQUENCE:0
STATUS:CONFIRMED
TRANSP:OPAQUE
END:VEVENT
END:VCALENDAR
