BEGIN:VCALENDAR
VERSION:2.0
METHOD:PUBLISH
BEGIN:VEVENT
DTSTART:20241026T160000Z
DTEND:20241027T200000Z
LOCATION:Bellevue, WA 98007
TRANSP: OPAQUE
SEQUENCE:0
UID:
DTSTAMP:20260424T133725Z
SUMMARY:Moving / estate sale
DESCRIPTION:Moving / estate sale A&W Helping Hands Estate Sale services and full cleanouts 
UID:1777059445
STREET-ADDRESS:See website
POSTAL-CODE:98007
LOCALITY:Bellevue
REGION:ABBREV=WA
COUNTRY:ABBREV=US;ABBREV=USA:United States
URL;TYPE=Event Listing:https://estatesales.org/estate-sales/wa/bellevue/98007/moving-estate-sale-2346744
PRIORITY:1
CLASS:PUBLIC
SEQUENCE:0
STATUS:CONFIRMED
TRANSP:OPAQUE
END:VEVENT
END:VCALENDAR
