BEGIN:VCALENDAR
VERSION:2.0
METHOD:PUBLISH
BEGIN:VEVENT
DTSTART:20241026T160000Z
DTEND:20241027T210000Z
LOCATION:Aptos, CA 95003
TRANSP: OPAQUE
SEQUENCE:0
UID:
DTSTAMP:20260421T211210Z
SUMMARY:$10 FILL-A-BAG SALE SUNDAY ONLY - Huge Aptos Estate Sale by Hammydownz
DESCRIPTION:$10 FILL-A-BAG SALE SUNDAY ONLY - Huge Aptos Estate Sale by Hammydownz Hammydownz 
UID:1776827530
STREET-ADDRESS:See website
POSTAL-CODE:95003
LOCALITY:Aptos
REGION:ABBREV=CA
COUNTRY:ABBREV=US;ABBREV=USA:United States
URL;TYPE=Event Listing:https://estatesales.org/estate-sales/ca/aptos/95003/10-fillabag-sale-sunday-only-2346403
PRIORITY:1
CLASS:PUBLIC
SEQUENCE:0
STATUS:CONFIRMED
TRANSP:OPAQUE
END:VEVENT
END:VCALENDAR
