BEGIN:VCALENDAR
VERSION:2.0
METHOD:PUBLISH
BEGIN:VEVENT
DTSTART:20231026T120000Z
DTEND:20231028T160000Z
LOCATION:Seminole, FL 33776
TRANSP: OPAQUE
SEQUENCE:0
UID:
DTSTAMP:20260423T094747Z
SUMMARY:Baby Boomers Seminole Estate Sale
DESCRIPTION:Baby Boomers Seminole Estate Sale Baby Boomers Estate Sales 
UID:1776959267
STREET-ADDRESS:See website
POSTAL-CODE:33776
LOCALITY:Seminole
REGION:ABBREV=FL
COUNTRY:ABBREV=US;ABBREV=USA:United States
URL;TYPE=Event Listing:https://estatesales.org/estate-sales/fl/seminole/33776/baby-boomers-seminole-estate-sale-2247299
PRIORITY:1
CLASS:PUBLIC
SEQUENCE:0
STATUS:CONFIRMED
TRANSP:OPAQUE
END:VEVENT
END:VCALENDAR
