BEGIN:VCALENDAR
VERSION:2.0
METHOD:PUBLISH
BEGIN:VEVENT
DTSTART:20191026T160000Z
DTEND:20191027T220000Z
LOCATION:Northridge, CA 91325
TRANSP: OPAQUE
SEQUENCE:0
UID:
DTSTAMP:20260420T020311Z
SUMMARY:Packed Estate.  Unique and  Vintage Items /Clothes,  Asian Art , Mid Century Furniture- and More! 
DESCRIPTION:Packed Estate.  Unique and  Vintage Items /Clothes,  Asian Art , Mid Century Furniture- and More!  Triumphant Estate Sales of Los Angeles 
UID:1776672191
STREET-ADDRESS:See website
POSTAL-CODE:91325
LOCALITY:Northridge
REGION:ABBREV=CA
COUNTRY:ABBREV=US;ABBREV=USA:United States
URL;TYPE=Event Listing:https://estatesales.org/estate-sales/ca/northridge/91325/packed-estate-unique-and-vintage-1731765
PRIORITY:1
CLASS:PUBLIC
SEQUENCE:0
STATUS:CONFIRMED
TRANSP:OPAQUE
END:VEVENT
END:VCALENDAR
