BEGIN:VCALENDAR
VERSION:2.0
METHOD:PUBLISH
BEGIN:VEVENT
DTSTART:20241025T140000Z
DTEND:20241027T160000Z
LOCATION:Havre De Grace, MD 21078
TRANSP: OPAQUE
SEQUENCE:0
UID:
DTSTAMP:20260421T125603Z
SUMMARY:10.00 FILL A BAG and 20.00 FILL A CAR HAVRE DE GRACE PACKED HOME
DESCRIPTION:10.00 FILL A BAG and 20.00 FILL A CAR HAVRE DE GRACE PACKED HOME Around the Town Estate Sales, LLC 
UID:1776797763
STREET-ADDRESS:See website
POSTAL-CODE:21078
LOCALITY:Havre De Grace
REGION:ABBREV=MD
COUNTRY:ABBREV=US;ABBREV=USA:United States
URL;TYPE=Event Listing:https://estatesales.org/estate-sales/md/havre-de-grace/21078/1009-fill-a-bag-and-2346600
PRIORITY:1
CLASS:PUBLIC
SEQUENCE:0
STATUS:CONFIRMED
TRANSP:OPAQUE
END:VEVENT
END:VCALENDAR
