BEGIN:VCALENDAR
VERSION:2.0
METHOD:PUBLISH
BEGIN:VEVENT
DTSTART:20241025T130000Z
DTEND:20241027T180000Z
LOCATION:Groveland, FL 34736
TRANSP: OPAQUE
SEQUENCE:0
UID:
DTSTAMP:20260421T231557Z
SUMMARY:Let it Go Lifestyle in Groveland (Trilogy)
DESCRIPTION:Let it Go Lifestyle in Groveland (Trilogy) Let It Go Lifestyle Estate Sale Company & Emporium 
UID:1776834957
STREET-ADDRESS:See website
POSTAL-CODE:34736
LOCALITY:Groveland
REGION:ABBREV=FL
COUNTRY:ABBREV=US;ABBREV=USA:United States
URL;TYPE=Event Listing:https://estatesales.org/estate-sales/fl/groveland/34736/let-it-go-lifestyle-in-2340200
PRIORITY:1
CLASS:PUBLIC
SEQUENCE:0
STATUS:CONFIRMED
TRANSP:OPAQUE
END:VEVENT
END:VCALENDAR
