BEGIN:VCALENDAR
VERSION:2.0
METHOD:PUBLISH
BEGIN:VEVENT
DTSTART:20241025T120000Z
DTEND:20241027T190000Z
LOCATION:Fort Smith, AR 72901
TRANSP: OPAQUE
SEQUENCE:0
UID:
DTSTAMP:20260420T182608Z
SUMMARY:Fort Smith Estate Sale near Phoenix Ave
DESCRIPTION:Fort Smith Estate Sale near Phoenix Ave Crouch Estate Sales 
UID:1776731168
STREET-ADDRESS:See website
POSTAL-CODE:72901
LOCALITY:Fort Smith
REGION:ABBREV=AR
COUNTRY:ABBREV=US;ABBREV=USA:United States
URL;TYPE=Event Listing:https://estatesales.org/estate-sales/ar/fort-smith/72901/fort-smith-estate-sale-near-2344055
PRIORITY:1
CLASS:PUBLIC
SEQUENCE:0
STATUS:CONFIRMED
TRANSP:OPAQUE
END:VEVENT
END:VCALENDAR
