BEGIN:VCALENDAR
VERSION:2.0
METHOD:PUBLISH
BEGIN:VEVENT
DTSTART:20251024T120000Z
DTEND:20251025T190000Z
LOCATION:Farmington, CT 06032
TRANSP: OPAQUE
SEQUENCE:0
UID:
DTSTAMP:20260425T152517Z
SUMMARY:Farmington Estate Sale featuring tool shop, clocks and Landers, Frary & Clark collection
DESCRIPTION:Farmington Estate Sale featuring tool shop, clocks and Landers, Frary & Clark collection Sean Mahoney Estate Sales LLC 
UID:1777152317
STREET-ADDRESS:See website
POSTAL-CODE:06032
LOCALITY:Farmington
REGION:ABBREV=CT
COUNTRY:ABBREV=US;ABBREV=USA:United States
URL;TYPE=Event Listing:https://estatesales.org/estate-sales/ct/farmington-/06032/farmington-estate-sale-featuring-tool-2408516
PRIORITY:1
CLASS:PUBLIC
SEQUENCE:0
STATUS:CONFIRMED
TRANSP:OPAQUE
END:VEVENT
END:VCALENDAR
