BEGIN:VCALENDAR
VERSION:2.0
METHOD:PUBLISH
BEGIN:VEVENT
DTSTART:20241024T160000Z
DTEND:20241026T220000Z
LOCATION:Rancho Cordova, CA 95670
TRANSP: OPAQUE
SEQUENCE:0
UID:
DTSTAMP:20260420T023616Z
SUMMARY:Saturday 50% Blow Out Sale at Estate full of vintage, trains, toys and fun collectable items
DESCRIPTION:Saturday 50% Blow Out Sale at Estate full of vintage, trains, toys and fun collectable items Sacramento Estate Sales Services 
UID:1776674176
STREET-ADDRESS:See website
POSTAL-CODE:95670
LOCALITY:Rancho Cordova
REGION:ABBREV=CA
COUNTRY:ABBREV=US;ABBREV=USA:United States
URL;TYPE=Event Listing:https://estatesales.org/estate-sales/ca/rancho-cordova/95670/25-off-friday-at-estate-2345853
PRIORITY:1
CLASS:PUBLIC
SEQUENCE:0
STATUS:CONFIRMED
TRANSP:OPAQUE
END:VEVENT
END:VCALENDAR
