BEGIN:VCALENDAR
VERSION:2.0
METHOD:PUBLISH
BEGIN:VEVENT
DTSTART:20241024T160000Z
DTEND:20241026T210000Z
LOCATION:Walnut Creek, CA 94598
TRANSP: OPAQUE
SEQUENCE:0
UID:
DTSTAMP:20260421T092630Z
SUMMARY:BEEHIVE ESTATE SALES PRESENTS A PACKED VINTAGE WALNUT CREEK SALE
DESCRIPTION:BEEHIVE ESTATE SALES PRESENTS A PACKED VINTAGE WALNUT CREEK SALE Beehive Estate Sales 
UID:1776785190
STREET-ADDRESS:See website
POSTAL-CODE:94598
LOCALITY:Walnut Creek
REGION:ABBREV=CA
COUNTRY:ABBREV=US;ABBREV=USA:United States
URL;TYPE=Event Listing:https://estatesales.org/estate-sales/ca/walnut-creek/94598/beehive-estate-sales-presents-a-2346287
PRIORITY:1
CLASS:PUBLIC
SEQUENCE:0
STATUS:CONFIRMED
TRANSP:OPAQUE
END:VEVENT
END:VCALENDAR
