BEGIN:VCALENDAR
VERSION:2.0
METHOD:PUBLISH
BEGIN:VEVENT
DTSTART:20201024T160000Z
DTEND:20201025T210000Z
LOCATION:West Hollywood, CA 90048
TRANSP: OPAQUE
SEQUENCE:0
UID:
DTSTAMP:20260420T021554Z
SUMMARY:Fresh Deals Today-Full Estate Of Unique and Rare. Years of collecting Antiques, Vintage, Asian, Arts, Collectibles...
DESCRIPTION:Fresh Deals Today-Full Estate Of Unique and Rare. Years of collecting Antiques, Vintage, Asian, Arts, Collectibles... Triumphant Estate Sales of Los Angeles 
UID:1776672954
STREET-ADDRESS:See website
POSTAL-CODE:90048
LOCALITY:West Hollywood
REGION:ABBREV=CA
COUNTRY:ABBREV=US;ABBREV=USA:United States
URL;TYPE=Event Listing:https://estatesales.org/estate-sales/ca/west-hollywood/90048/fresh-deals-todayfull-estate-of-1837683
PRIORITY:1
CLASS:PUBLIC
SEQUENCE:0
STATUS:CONFIRMED
TRANSP:OPAQUE
END:VEVENT
END:VCALENDAR
