BEGIN:VCALENDAR
VERSION:2.0
METHOD:PUBLISH
BEGIN:VEVENT
DTSTART:20171024T160000Z
DTEND:20171024T230000Z
LOCATION:Loomis, CA 95650
TRANSP: OPAQUE
SEQUENCE:0
UID:
DTSTAMP:20260421T151905Z
SUMMARY:Model A Included In This One Day Loomis Blowout Sale
DESCRIPTION:Model A Included In This One Day Loomis Blowout Sale Estate Sales Help 
UID:1776806345
STREET-ADDRESS:See website
POSTAL-CODE:95650
LOCALITY:Loomis
REGION:ABBREV=CA
COUNTRY:ABBREV=US;ABBREV=USA:United States
URL;TYPE=Event Listing:https://estatesales.org/estate-sales/ca/loomis/95650/model-a-included-in-this-1437251
PRIORITY:1
CLASS:PUBLIC
SEQUENCE:0
STATUS:CONFIRMED
TRANSP:OPAQUE
END:VEVENT
END:VCALENDAR
