BEGIN:VCALENDAR
VERSION:2.0
METHOD:PUBLISH
BEGIN:VEVENT
DTSTART:20251023T160000Z
DTEND:20251025T210000Z
LOCATION:San Pedro, CA 90731
TRANSP: OPAQUE
SEQUENCE:0
UID:
DTSTAMP:20260420T024504Z
SUMMARY:*50% Off Saturday - Sunflower Power!!
DESCRIPTION:*50% Off Saturday - Sunflower Power!! Diamond Heirlooms Estate Sales & Consulting  LLC 
UID:1776674704
STREET-ADDRESS:See website
POSTAL-CODE:90731
LOCALITY:San Pedro
REGION:ABBREV=CA
COUNTRY:ABBREV=US;ABBREV=USA:United States
URL;TYPE=Event Listing:https://estatesales.org/estate-sales/ca/san-pedro/90731/20-off-friday-sunflower-power-2407967
PRIORITY:1
CLASS:PUBLIC
SEQUENCE:0
STATUS:CONFIRMED
TRANSP:OPAQUE
END:VEVENT
END:VCALENDAR
