BEGIN:VCALENDAR
VERSION:2.0
METHOD:PUBLISH
BEGIN:VEVENT
DTSTART:20251023T150000Z
DTEND:20251023T210000Z
LOCATION:Blanchard, OK 73010
TRANSP: OPAQUE
SEQUENCE:0
UID:
DTSTAMP:20260425T113047Z
SUMMARY:Collectibles, Coins and Marbles in Cole
DESCRIPTION:Collectibles, Coins and Marbles in Cole Vincent Estate Sales 
UID:1777138247
STREET-ADDRESS:See website
POSTAL-CODE:73010
LOCALITY:Blanchard
REGION:ABBREV=OK
COUNTRY:ABBREV=US;ABBREV=USA:United States
URL;TYPE=Event Listing:https://estatesales.org/estate-sales/ok/cole/73010/collectibles-coins-and-marbles-in-2407828
PRIORITY:1
CLASS:PUBLIC
SEQUENCE:0
STATUS:CONFIRMED
TRANSP:OPAQUE
END:VEVENT
END:VCALENDAR
