BEGIN:VCALENDAR
VERSION:2.0
METHOD:PUBLISH
BEGIN:VEVENT
DTSTART:20251023T120000Z
DTEND:20251025T160000Z
LOCATION:Bolivar, MO 65613
TRANSP: OPAQUE
SEQUENCE:0
UID:
DTSTAMP:20260420T080736Z
SUMMARY:Big Things in Small Packages - Bolivar Estate Sale
DESCRIPTION:Big Things in Small Packages - Bolivar Estate Sale Treasured Relics Estate Sale Co. 
UID:1776694056
STREET-ADDRESS:See website
POSTAL-CODE:65613
LOCALITY:Bolivar
REGION:ABBREV=MO
COUNTRY:ABBREV=US;ABBREV=USA:United States
URL;TYPE=Event Listing:https://estatesales.org/estate-sales/mo/bolivar/65613/big-things-in-small-packages-2408548
PRIORITY:1
CLASS:PUBLIC
SEQUENCE:0
STATUS:CONFIRMED
TRANSP:OPAQUE
END:VEVENT
END:VCALENDAR
