BEGIN:VCALENDAR
VERSION:2.0
METHOD:PUBLISH
BEGIN:VEVENT
DTSTART:20201023T150000Z
DTEND:20201025T220000Z
LOCATION:Comanche, OK 73529
TRANSP: OPAQUE
SEQUENCE:0
UID:
DTSTAMP:20260425T164629Z
SUMMARY:Green Girls in Downtown Comanche
DESCRIPTION:Green Girls in Downtown Comanche Green Girls' Estate Sales LLC 
UID:1777157189
STREET-ADDRESS:See website
POSTAL-CODE:73529
LOCALITY:Comanche
REGION:ABBREV=OK
COUNTRY:ABBREV=US;ABBREV=USA:United States
URL;TYPE=Event Listing:https://estatesales.org/estate-sales/ok/comanche/73529/green-girls-in-downtown-comanche-1839497
PRIORITY:1
CLASS:PUBLIC
SEQUENCE:0
STATUS:CONFIRMED
TRANSP:OPAQUE
END:VEVENT
END:VCALENDAR
