BEGIN:VCALENDAR
VERSION:2.0
METHOD:PUBLISH
BEGIN:VEVENT
DTSTART:20151023T140000Z
DTEND:20151025T190000Z
LOCATION:Grosse Pointe, MI 48236
TRANSP: OPAQUE
SEQUENCE:0
UID:
DTSTAMP:20260423T233333Z
SUMMARY:Gorgeous Grosse Pointe Farms Estate Sale!
DESCRIPTION:Gorgeous Grosse Pointe Farms Estate Sale! TLC Premiere Estate Sales, LLC 
UID:1777008813
STREET-ADDRESS:See website
POSTAL-CODE:48236
LOCALITY:Grosse Pointe
REGION:ABBREV=MI
COUNTRY:ABBREV=US;ABBREV=USA:United States
URL;TYPE=Event Listing:https://estatesales.org/estate-sales/mi/grosse-pointe/48236/gorgeous-grosse-pointe-farms-estate-706207
PRIORITY:1
CLASS:PUBLIC
SEQUENCE:0
STATUS:CONFIRMED
TRANSP:OPAQUE
END:VEVENT
END:VCALENDAR
