BEGIN:VCALENDAR
VERSION:2.0
METHOD:PUBLISH
BEGIN:VEVENT
DTSTART:20151023T160000Z
DTEND:20151024T220000Z
LOCATION:Sacramento, CA 95822
TRANSP: OPAQUE
SEQUENCE:0
UID:
DTSTAMP:20260421T115630Z
SUMMARY:New Life Estate Sale Presents A Classic Americana Sale
DESCRIPTION:New Life Estate Sale Presents A Classic Americana Sale Calder Estate Sales and Liquidators 
UID:1776794190
STREET-ADDRESS:See website
POSTAL-CODE:95822
LOCALITY:Sacramento
REGION:ABBREV=CA
COUNTRY:ABBREV=US;ABBREV=USA:United States
URL;TYPE=Event Listing:https://estatesales.org/estate-sales/ca/sacramento/95822/new-life-estate-sale-presents-707937
PRIORITY:1
CLASS:PUBLIC
SEQUENCE:0
STATUS:CONFIRMED
TRANSP:OPAQUE
END:VEVENT
END:VCALENDAR
