BEGIN:VCALENDAR
VERSION:2.0
METHOD:PUBLISH
BEGIN:VEVENT
DTSTART:20211022T140000Z
DTEND:20211023T200000Z
LOCATION:Appleton, WI 54913
TRANSP: OPAQUE
SEQUENCE:0
UID:
DTSTAMP:20260424T073818Z
SUMMARY:Exquisite North Appleton Estate 
DESCRIPTION:Exquisite North Appleton Estate  Greater Fox Valley Estate Sales / Chip's Treasures LLC 
UID:1777037898
STREET-ADDRESS:See website
POSTAL-CODE:54913
LOCALITY:Appleton
REGION:ABBREV=WI
COUNTRY:ABBREV=US;ABBREV=USA:United States
URL;TYPE=Event Listing:https://estatesales.org/estate-sales/wi/appleton/54913/exquisite-north-appleton-estate-1973139
PRIORITY:1
CLASS:PUBLIC
SEQUENCE:0
STATUS:CONFIRMED
TRANSP:OPAQUE
END:VEVENT
END:VCALENDAR
