BEGIN:VCALENDAR
VERSION:2.0
METHOD:PUBLISH
BEGIN:VEVENT
DTSTART:20161022T160000Z
DTEND:20161023T220000Z
LOCATION:Reseda, CA 91335
TRANSP: OPAQUE
SEQUENCE:0
UID:
DTSTAMP:20260420T222146Z
SUMMARY:Estate of Michelle Breeze, Gunsmoke, Elizabeth Taylor Double
DESCRIPTION:Estate of Michelle Breeze, Gunsmoke, Elizabeth Taylor Double Retro Robin Estate Sales, LLC 
UID:1776745306
STREET-ADDRESS:See website
POSTAL-CODE:91335
LOCALITY:Reseda
REGION:ABBREV=CA
COUNTRY:ABBREV=US;ABBREV=USA:United States
URL;TYPE=Event Listing:https://estatesales.org/estate-sales/ca/reseda/91335/estate-of-michelle-breeze-gunsmoke-1008347
PRIORITY:1
CLASS:PUBLIC
SEQUENCE:0
STATUS:CONFIRMED
TRANSP:OPAQUE
END:VEVENT
END:VCALENDAR
