BEGIN:VCALENDAR
VERSION:2.0
METHOD:PUBLISH
BEGIN:VEVENT
DTSTART:20231021T160000Z
DTEND:20231022T213000Z
LOCATION:Los Angeles, CA 90064
TRANSP: OPAQUE
SEQUENCE:0
UID:
DTSTAMP:20260420T044047Z
SUMMARY: BLOW OUT DISCOUNT SUNDAY CHEVIOT HILLS ESTATE SALE  
DESCRIPTION: BLOW OUT DISCOUNT SUNDAY CHEVIOT HILLS ESTATE SALE   Hidden Treasure Estate Sales 
UID:1776681647
STREET-ADDRESS:See website
POSTAL-CODE:90064
LOCALITY:Los Angeles
REGION:ABBREV=CA
COUNTRY:ABBREV=US;ABBREV=USA:United States
URL;TYPE=Event Listing:https://estatesales.org/estate-sales/ca/los-angeles/90064/blow-out-discount-sunday-cheviot-2244505
PRIORITY:1
CLASS:PUBLIC
SEQUENCE:0
STATUS:CONFIRMED
TRANSP:OPAQUE
END:VEVENT
END:VCALENDAR
