BEGIN:VCALENDAR
VERSION:2.0
METHOD:PUBLISH
BEGIN:VEVENT
DTSTART:20231021T140000Z
DTEND:20231021T200000Z
LOCATION:Bakersfield, CA 93307
TRANSP: OPAQUE
SEQUENCE:0
UID:
DTSTAMP:20260422T120355Z
SUMMARY:Warehouse Liquidation- Pallet and Bin Sale
DESCRIPTION:Warehouse Liquidation- Pallet and Bin Sale Complete Estate Management 
UID:1776881035
STREET-ADDRESS:See website
POSTAL-CODE:93307
LOCALITY:Bakersfield
REGION:ABBREV=CA
COUNTRY:ABBREV=US;ABBREV=USA:United States
URL;TYPE=Event Listing:https://estatesales.org/estate-sales/ca/bakersfield/93307/warehouse-liquidation-pallet-and-bin-2245041
PRIORITY:1
CLASS:PUBLIC
SEQUENCE:0
STATUS:CONFIRMED
TRANSP:OPAQUE
END:VEVENT
END:VCALENDAR
