BEGIN:VCALENDAR
VERSION:2.0
METHOD:PUBLISH
BEGIN:VEVENT
DTSTART:20221021T140000Z
DTEND:20221022T190000Z
LOCATION:Downers Grove, IL 60516
TRANSP: OPAQUE
SEQUENCE:0
UID:
DTSTAMP:20260425T145709Z
SUMMARY:Grasons Co of NW Chicagoland 2 day Mid-Century modern sale Downers Grove
DESCRIPTION:Grasons Co of NW Chicagoland 2 day Mid-Century modern sale Downers Grove Grasons Co of NW Chicagoland 
UID:1777150629
STREET-ADDRESS:See website
POSTAL-CODE:60516
LOCALITY:Downers Grove
REGION:ABBREV=IL
COUNTRY:ABBREV=US;ABBREV=USA:United States
URL;TYPE=Event Listing:https://estatesales.org/estate-sales/il/downers-grove/60516/grasons-co-of-nw-chicagoland-2099643
PRIORITY:1
CLASS:PUBLIC
SEQUENCE:0
STATUS:CONFIRMED
TRANSP:OPAQUE
END:VEVENT
END:VCALENDAR
