BEGIN:VCALENDAR
VERSION:2.0
METHOD:PUBLISH
BEGIN:VEVENT
DTSTART:20251020T140000Z
DTEND:20251020T180000Z
LOCATION:Friendswood, TX 77546
TRANSP: OPAQUE
SEQUENCE:0
UID:
DTSTAMP:20260425T101200Z
SUMMARY:Friendswood Flash Sale! Monday, Oct 20 9AM-1PM!
DESCRIPTION:Friendswood Flash Sale! Monday, Oct 20 9AM-1PM! Caring Transitions of Friendswood 
UID:1777133520
STREET-ADDRESS:See website
POSTAL-CODE:77546
LOCALITY:Friendswood
REGION:ABBREV=TX
COUNTRY:ABBREV=US;ABBREV=USA:United States
URL;TYPE=Event Listing:https://estatesales.org/estate-sales/tx/friendswood/77546/friendswood-flash-sale-monday-oct-2407881
PRIORITY:1
CLASS:PUBLIC
SEQUENCE:0
STATUS:CONFIRMED
TRANSP:OPAQUE
END:VEVENT
END:VCALENDAR
