BEGIN:VCALENDAR
VERSION:2.0
METHOD:PUBLISH
BEGIN:VEVENT
DTSTART:20231020T170000Z
DTEND:20231021T210000Z
LOCATION:Gilbert, AZ 85298
TRANSP: OPAQUE
SEQUENCE:0
UID:
DTSTAMP:20260422T002940Z
SUMMARY:Whole House in Gilbert -- Tools; Super Clean; Patio
DESCRIPTION:Whole House in Gilbert -- Tools; Super Clean; Patio Boyds AZ 
UID:1776839380
STREET-ADDRESS:See website
POSTAL-CODE:85298
LOCALITY:Gilbert
REGION:ABBREV=AZ
COUNTRY:ABBREV=US;ABBREV=USA:United States
URL;TYPE=Event Listing:https://estatesales.org/estate-sales/az/gilbert/85298/whole-house-in-gilbert-tools-2243359
PRIORITY:1
CLASS:PUBLIC
SEQUENCE:0
STATUS:CONFIRMED
TRANSP:OPAQUE
END:VEVENT
END:VCALENDAR
