BEGIN:VCALENDAR
VERSION:2.0
METHOD:PUBLISH
BEGIN:VEVENT
DTSTART:20231020T130000Z
DTEND:20231022T170000Z
LOCATION:Springdale, AR 72762
TRANSP: OPAQUE
SEQUENCE:0
UID:
DTSTAMP:20260423T131100Z
SUMMARY:Super Springdale Sale!
DESCRIPTION:Super Springdale Sale! Bella Vista Estate Sales and Service 
UID:1776971460
STREET-ADDRESS:See website
POSTAL-CODE:72762
LOCALITY:Springdale
REGION:ABBREV=AR
COUNTRY:ABBREV=US;ABBREV=USA:United States
URL;TYPE=Event Listing:https://estatesales.org/estate-sales/ar/springdale/72762/super-springdale-sale-2245697
PRIORITY:1
CLASS:PUBLIC
SEQUENCE:0
STATUS:CONFIRMED
TRANSP:OPAQUE
END:VEVENT
END:VCALENDAR
